BEGIN:VCALENDAR
VERSION:2.0
PRODID:-//Anaesthesia Continuing Education (ACE) - ECPv6.15.18//NONSGML v1.0//EN
CALSCALE:GREGORIAN
METHOD:PUBLISH
X-ORIGINAL-URL:https://acecc.org.au
X-WR-CALDESC:Events for Anaesthesia Continuing Education (ACE)
REFRESH-INTERVAL;VALUE=DURATION:PT1H
X-Robots-Tag:noindex
X-PUBLISHED-TTL:PT1H
BEGIN:VTIMEZONE
TZID:Pacific/Auckland
BEGIN:STANDARD
TZOFFSETFROM:+1300
TZOFFSETTO:+1200
TZNAME:NZST
DTSTART:20250405T140000
END:STANDARD
BEGIN:DAYLIGHT
TZOFFSETFROM:+1200
TZOFFSETTO:+1300
TZNAME:NZDT
DTSTART:20250927T140000
END:DAYLIGHT
BEGIN:STANDARD
TZOFFSETFROM:+1300
TZOFFSETTO:+1200
TZNAME:NZST
DTSTART:20260404T140000
END:STANDARD
BEGIN:DAYLIGHT
TZOFFSETFROM:+1200
TZOFFSETTO:+1300
TZNAME:NZDT
DTSTART:20260926T140000
END:DAYLIGHT
BEGIN:STANDARD
TZOFFSETFROM:+1300
TZOFFSETTO:+1200
TZNAME:NZST
DTSTART:20270403T140000
END:STANDARD
BEGIN:DAYLIGHT
TZOFFSETFROM:+1200
TZOFFSETTO:+1300
TZNAME:NZDT
DTSTART:20270925T140000
END:DAYLIGHT
END:VTIMEZONE
BEGIN:VEVENT
DTSTART;TZID=Pacific/Auckland:20261121T080000
DTEND;TZID=Pacific/Auckland:20261121T123000
DTSTAMP:20260422T040853
CREATED:20251103T021002Z
LAST-MODIFIED:20251103T021002Z
UID:7541-1795248000-1795264200@acecc.org.au
SUMMARY:GASTRICUS Gastric Ultrasound workshop
DESCRIPTION:A comprehensive 4-hour workshop on gastric point-of-care ultrasound for medical professionals\, to assess risk of tracheal aspiration and guide airway management.\nGastricus workshops conform to the ANZCA PG47 Guideline on training and practice of perioperative diagnostic POCUS 2025. \nDuring the workshop\, participants will receive:\n– hands-on training by expert faculty with immediate feedback\n– experience in scanning a variety of gastric states\n– a formative DOPS assessment\n– formal image interpretation and reporting training\n– a comprehensive handbook as pre-workshop reading and for future reference.
URL:https://acecc.org.au/event/gastricus-gastric-ultrasound-workshop/
LOCATION:University of Auckland – Simulation Centre for Patient Safety\, 85 Park Road Grafton\, Auckland\, 1023\, New Zealand
CATEGORIES:Anaesthesia,Training & Workshops
ATTACH;FMTTYPE=image/png:https://acecc.org.au/wp-content/uploads/2025/10/Small-logo-2-2.png
ORGANIZER;CN="Gastricus":MAILTO:admin@gastricus.org
END:VEVENT
END:VCALENDAR