BEGIN:VCALENDAR
VERSION:2.0
PRODID:-//Anaesthesia Continuing Education (ACE) - ECPv6.15.18//NONSGML v1.0//EN
CALSCALE:GREGORIAN
METHOD:PUBLISH
X-WR-CALNAME:Anaesthesia Continuing Education (ACE)
X-ORIGINAL-URL:https://acecc.org.au
X-WR-CALDESC:Events for Anaesthesia Continuing Education (ACE)
REFRESH-INTERVAL;VALUE=DURATION:PT1H
X-Robots-Tag:noindex
X-PUBLISHED-TTL:PT1H
BEGIN:VTIMEZONE
TZID:Australia/Sydney
BEGIN:STANDARD
TZOFFSETFROM:+1100
TZOFFSETTO:+1000
TZNAME:AEST
DTSTART:20250405T160000
END:STANDARD
BEGIN:DAYLIGHT
TZOFFSETFROM:+1000
TZOFFSETTO:+1100
TZNAME:AEDT
DTSTART:20251004T160000
END:DAYLIGHT
BEGIN:STANDARD
TZOFFSETFROM:+1100
TZOFFSETTO:+1000
TZNAME:AEST
DTSTART:20260404T160000
END:STANDARD
BEGIN:DAYLIGHT
TZOFFSETFROM:+1000
TZOFFSETTO:+1100
TZNAME:AEDT
DTSTART:20261003T160000
END:DAYLIGHT
BEGIN:STANDARD
TZOFFSETFROM:+1100
TZOFFSETTO:+1000
TZNAME:AEST
DTSTART:20270403T160000
END:STANDARD
BEGIN:DAYLIGHT
TZOFFSETFROM:+1000
TZOFFSETTO:+1100
TZNAME:AEDT
DTSTART:20271002T160000
END:DAYLIGHT
END:VTIMEZONE
BEGIN:VEVENT
DTSTART;TZID=Australia/Sydney:20260808T083000
DTEND;TZID=Australia/Sydney:20260809T173000
DTSTAMP:20260421T235520
CREATED:20250918T224859Z
LAST-MODIFIED:20250918T224859Z
UID:7172-1786177800-1786296600@acecc.org.au
SUMMARY:2026 Melbourne Winter Anaesthesia Meeting
DESCRIPTION:A combined ASA and ANZCA CME Meeting held in person at the Sofitel Melbourne on Collins. A two-day meeting comprising scientific program (plenary sessions)\, including a case based Practice evaluation (PE) session on day one and optional workshops and small group discussions on day two. This is a popular meeting known for the pragmatic nature of the presentations in the scientific program.
URL:https://acecc.org.au/event/2026-melbourne-winter-anaesthesia-meeting/
LOCATION:Sofitel Melbourne on Collins\, 25 Collins St\, Melbourne\, VIC\, 3000\, Australia
CATEGORIES:Anaesthesia
ATTACH;FMTTYPE=image/jpeg:https://acecc.org.au/wp-content/uploads/2024/02/shutterstock_168767777-scaled.jpg
ORGANIZER;CN="Cathy O'Brien":MAILTO:vic@anzca.edu.au
END:VEVENT
END:VCALENDAR