BEGIN:VCALENDAR
VERSION:2.0
PRODID:-//Anaesthesia Continuing Education (ACE) - ECPv6.15.18//NONSGML v1.0//EN
CALSCALE:GREGORIAN
METHOD:PUBLISH
X-WR-CALNAME:Anaesthesia Continuing Education (ACE)
X-ORIGINAL-URL:https://acecc.org.au
X-WR-CALDESC:Events for Anaesthesia Continuing Education (ACE)
REFRESH-INTERVAL;VALUE=DURATION:PT1H
X-Robots-Tag:noindex
X-PUBLISHED-TTL:PT1H
BEGIN:VTIMEZONE
TZID:Australia/Sydney
BEGIN:STANDARD
TZOFFSETFROM:+1100
TZOFFSETTO:+1000
TZNAME:AEST
DTSTART:20250405T160000
END:STANDARD
BEGIN:DAYLIGHT
TZOFFSETFROM:+1000
TZOFFSETTO:+1100
TZNAME:AEDT
DTSTART:20251004T160000
END:DAYLIGHT
BEGIN:STANDARD
TZOFFSETFROM:+1100
TZOFFSETTO:+1000
TZNAME:AEST
DTSTART:20260404T160000
END:STANDARD
BEGIN:DAYLIGHT
TZOFFSETFROM:+1000
TZOFFSETTO:+1100
TZNAME:AEDT
DTSTART:20261003T160000
END:DAYLIGHT
BEGIN:STANDARD
TZOFFSETFROM:+1100
TZOFFSETTO:+1000
TZNAME:AEST
DTSTART:20270403T160000
END:STANDARD
BEGIN:DAYLIGHT
TZOFFSETFROM:+1000
TZOFFSETTO:+1100
TZNAME:AEDT
DTSTART:20271002T160000
END:DAYLIGHT
END:VTIMEZONE
BEGIN:VEVENT
DTSTART;TZID=Australia/Sydney:20260624T083000
DTEND;TZID=Australia/Sydney:20260624T163000
DTSTAMP:20260421T204344
CREATED:20251219T035523Z
LAST-MODIFIED:20260223T021155Z
UID:8212-1782289800-1782318600@acecc.org.au
SUMMARY:Anaesthesia Paediatric CRM
DESCRIPTION:Suitable for: Anaesthesia trainees BTY1 & above\, Anaesthesia consultants\, Anaesthesia nurses \nPrerequisites: NIL \nLocation: HNE Simulation Centre\, John Hunter Hospital Campus. \nAim\nTo rehearse the management of paediatric anaesthesia crises. \nContent\nThis course provides an update on current management of paediatric anaesthesia emergencies with an additional focus on the principles of Crisis Resource Management (CRM). It is aimed at the ‘occasional’ paediatric anaesthetist who would like to refresh their skills and Advanced Trainees in Anaesthesia preparing for fellowship exams. Paediatric anaesthesia emergencies require effective teamwork to ensure best possible outcomes. This course promotes a team-based approach and anaesthesia assistants are encouraged to attend with their medical colleagues. \nFor more information\, please contact the HNE Simulation Centre.
URL:https://acecc.org.au/event/anaesthesia-paediatric-crm-2/
LOCATION:HNE Simulation Centre\, John Hunter Hospital\, Lookout Rd\,\, Newcastle\, NSW\, Australia
CATEGORIES:Anaesthesia
ATTACH;FMTTYPE=image/jpeg:https://acecc.org.au/wp-content/uploads/2025/12/Anaesthesia-Paeds-CRM1.jpg
END:VEVENT
END:VCALENDAR