BEGIN:VCALENDAR
VERSION:2.0
PRODID:-//Anaesthesia Continuing Education (ACE) - ECPv6.15.18//NONSGML v1.0//EN
CALSCALE:GREGORIAN
METHOD:PUBLISH
X-ORIGINAL-URL:https://acecc.org.au
X-WR-CALDESC:Events for Anaesthesia Continuing Education (ACE)
REFRESH-INTERVAL;VALUE=DURATION:PT1H
X-Robots-Tag:noindex
X-PUBLISHED-TTL:PT1H
BEGIN:VTIMEZONE
TZID:Australia/Sydney
BEGIN:STANDARD
TZOFFSETFROM:+1100
TZOFFSETTO:+1000
TZNAME:AEST
DTSTART:20250405T160000
END:STANDARD
BEGIN:DAYLIGHT
TZOFFSETFROM:+1000
TZOFFSETTO:+1100
TZNAME:AEDT
DTSTART:20251004T160000
END:DAYLIGHT
BEGIN:STANDARD
TZOFFSETFROM:+1100
TZOFFSETTO:+1000
TZNAME:AEST
DTSTART:20260404T160000
END:STANDARD
BEGIN:DAYLIGHT
TZOFFSETFROM:+1000
TZOFFSETTO:+1100
TZNAME:AEDT
DTSTART:20261003T160000
END:DAYLIGHT
BEGIN:STANDARD
TZOFFSETFROM:+1100
TZOFFSETTO:+1000
TZNAME:AEST
DTSTART:20270403T160000
END:STANDARD
BEGIN:DAYLIGHT
TZOFFSETFROM:+1000
TZOFFSETTO:+1100
TZNAME:AEDT
DTSTART:20271002T160000
END:DAYLIGHT
END:VTIMEZONE
BEGIN:VTIMEZONE
TZID:Australia/Darwin
BEGIN:STANDARD
TZOFFSETFROM:+0930
TZOFFSETTO:+0930
TZNAME:ACST
DTSTART:20250101T000000
END:STANDARD
END:VTIMEZONE
BEGIN:VEVENT
DTSTART;TZID=Australia/Sydney:20260620T080000
DTEND;TZID=Australia/Sydney:20260620T170000
DTSTAMP:20260421T192611
CREATED:20251002T055500Z
LAST-MODIFIED:20251008T012115Z
UID:7254-1781942400-1781974800@acecc.org.au
SUMMARY:2026 NSW ACE Winter Meeting
DESCRIPTION:Save the date for the 2026 NSW ACE Winter Meeting to be held on Saturday 20 June 2026 at Hilton Hotel Sydney. \nAre you on Bluesky? Join the conversation #ACE26NSW
URL:https://acecc.org.au/event/2026-nsw-ace-winter-meeting/
LOCATION:Hilton Sydney\, 488 George Street\, Sydney\, NSW\, 2000\, Australia
CATEGORIES:Anaesthesia,Meeting,Training & Workshops,Workshop
ATTACH;FMTTYPE=image/png:https://acecc.org.au/wp-content/uploads/2025/10/Thumbnails_1156x708_Regions_NSW.png
ORGANIZER;CN="Jessica Horne":MAILTO:nswevents@anzca.edu.au
END:VEVENT
BEGIN:VEVENT
DTSTART;TZID=Australia/Darwin:20260620T090000
DTEND;TZID=Australia/Darwin:20260621T163000
DTSTAMP:20260421T192611
CREATED:20251208T024138Z
LAST-MODIFIED:20251208T024138Z
UID:7944-1781946000-1782059400@acecc.org.au
SUMMARY:Focussed Cardiac Ultrasound workshop - Darwin
DESCRIPTION:Our accredited 2-day focussed cardiac ultrasound workshop is designed specifically for junior doctors through to medical specialists\, including but not limited to emergency physicians\, intensivists\, anaesthetics\, general medicine\, rural GP’s and cardiology trainees who want to perform point of care cardiac ultrasound.\nThe aim of the course is to equip clinicians with all the necessary skills to become proficient in performing a focussed\, cardiac ultrasound exam\, and aid in accurate diagnosis and subsequent timely patient care. Our experienced echocardiography educators simplify this learning process throughout\, applying our proven step-by-step approach and comprehensive hands-on component to each workshop.
URL:https://acecc.org.au/event/focussed-cardiac-ultrasound-workshop-darwin/
LOCATION:TBC
CATEGORIES:Anaesthesia,Anesthesiology,Training & Workshops,Workshop
ATTACH;FMTTYPE=image/png:https://acecc.org.au/wp-content/uploads/2025/12/CSA-Logo-large-18.png
ORGANIZER;CN="Amy Secomb":MAILTO:info@cardiacskillsaustralia.com.au
END:VEVENT
END:VCALENDAR