BEGIN:VCALENDAR
VERSION:2.0
PRODID:-//Anaesthesia Continuing Education (ACE) - ECPv6.15.18//NONSGML v1.0//EN
CALSCALE:GREGORIAN
METHOD:PUBLISH
X-WR-CALNAME:Anaesthesia Continuing Education (ACE)
X-ORIGINAL-URL:https://acecc.org.au
X-WR-CALDESC:Events for Anaesthesia Continuing Education (ACE)
REFRESH-INTERVAL;VALUE=DURATION:PT1H
X-Robots-Tag:noindex
X-PUBLISHED-TTL:PT1H
BEGIN:VTIMEZONE
TZID:Australia/Sydney
BEGIN:STANDARD
TZOFFSETFROM:+1100
TZOFFSETTO:+1000
TZNAME:AEST
DTSTART:20250405T160000
END:STANDARD
BEGIN:DAYLIGHT
TZOFFSETFROM:+1000
TZOFFSETTO:+1100
TZNAME:AEDT
DTSTART:20251004T160000
END:DAYLIGHT
BEGIN:STANDARD
TZOFFSETFROM:+1100
TZOFFSETTO:+1000
TZNAME:AEST
DTSTART:20260404T160000
END:STANDARD
BEGIN:DAYLIGHT
TZOFFSETFROM:+1000
TZOFFSETTO:+1100
TZNAME:AEDT
DTSTART:20261003T160000
END:DAYLIGHT
BEGIN:STANDARD
TZOFFSETFROM:+1100
TZOFFSETTO:+1000
TZNAME:AEST
DTSTART:20270403T160000
END:STANDARD
BEGIN:DAYLIGHT
TZOFFSETFROM:+1000
TZOFFSETTO:+1100
TZNAME:AEDT
DTSTART:20271002T160000
END:DAYLIGHT
END:VTIMEZONE
BEGIN:VEVENT
DTSTART;TZID=Australia/Sydney:20260603T083000
DTEND;TZID=Australia/Sydney:20260603T120000
DTSTAMP:20260421T192350
CREATED:20251219T034808Z
LAST-MODIFIED:20260223T021155Z
UID:8168-1780475400-1780488000@acecc.org.au
SUMMARY:Anaesthesia CPD Emergency Response Series: Major Haemorrhage Course
DESCRIPTION:Suitable for: Anaesthesia trainees IT and above\, Anaesthesia consultants\, GP anaesthetists\, GP anaesthesia trainees\, Anaesthesia nurses\, Recovery nurses \nLocation: HNE Simulation Centre\, John Hunter Hospital Campus. \nAim: To prepare anaesthesia providers for managing a major haemorrhage \nModules\nUsing a combination of facilitated discussions and simulations\, participants will develop and practise the skills\, knowledge and attitudes required to manage major haemorrhage and the complications that arise including cardiovascular instability and coagulopathy. This course promotes a team-based approach and anaesthesia assistants are encouraged to attend with their medical colleagues. \nParticipants in the ANZCA CPD Program may claim this ALS course as an emergency response activity in their CPD portfolio. Information about the ANZCA CPD Program can be found on www.anzca.edu.au \nFor more information\, please contact the HNE Simulation Centre.
URL:https://acecc.org.au/event/anaesthesia-cpd-emergency-response-series-major-haemorrhage-course/
LOCATION:HNE Simulation Centre\, John Hunter Hospital\, Lookout Rd\,\, Newcastle\, NSW\, Australia
CATEGORIES:Anaesthesia
ATTACH;FMTTYPE=image/jpeg:https://acecc.org.au/wp-content/uploads/2025/12/Anaes-CPD-Major-Haemorrhage1.jpg
END:VEVENT
BEGIN:VEVENT
DTSTART;TZID=Australia/Sydney:20260603T130000
DTEND;TZID=Australia/Sydney:20260603T170000
DTSTAMP:20260421T192350
CREATED:20251219T034528Z
LAST-MODIFIED:20260223T021155Z
UID:8160-1780491600-1780506000@acecc.org.au
SUMMARY:Anaesthesia CPD Emergency Response Series: Anaphylaxis
DESCRIPTION:Suitable for: Anaesthesia trainees IT and above\, Anaesthesia consultants\, GP anaesthetists\, GP anaesthesia trainees\, Anaesthesia nurses\, Recovery nurses \nLocation: HNE Simulation Centre\, John Hunter Hospital Campus. \nAim\nTo prepare anaesthesia providers for managing anaphylaxis. \nModules\nUsing a combination of facilitated discussions and simulations\, participants will develop and practise the skills\, knowledge and attitudes required for up-to-date management of anaphylaxis. The course will incorporate the Australian and New Zealand Anaesthetic Allergy Group (ANZAAG) guidelines. This course promotes a team-based approach and anaesthesia assistants are encouraged to attend with their medical colleagues. \nParticipants in the ANZCA CPD Program may claim this ALS course as an emergency response activity in their CPD portfolio. Information about the ANZCA CPD Program can be found on www.anzca.edu.au \nFor more information\, please contact the HNE Simulation Centre.
URL:https://acecc.org.au/event/anaesthesia-cpd-emergency-response-series-anaphylaxis/
LOCATION:HNE Simulation Centre\, John Hunter Hospital\, Lookout Rd\,\, Newcastle\, NSW\, Australia
CATEGORIES:Anaesthesia
ATTACH;FMTTYPE=image/jpeg:https://acecc.org.au/wp-content/uploads/2025/12/Anaes-CPD-Anaphylaxis1.jpg
END:VEVENT
END:VCALENDAR