BEGIN:VCALENDAR
VERSION:2.0
PRODID:-//Anaesthesia Continuing Education (ACE) - ECPv6.15.18//NONSGML v1.0//EN
CALSCALE:GREGORIAN
METHOD:PUBLISH
X-ORIGINAL-URL:https://acecc.org.au
X-WR-CALDESC:Events for Anaesthesia Continuing Education (ACE)
REFRESH-INTERVAL;VALUE=DURATION:PT1H
X-Robots-Tag:noindex
X-PUBLISHED-TTL:PT1H
BEGIN:VTIMEZONE
TZID:Australia/Sydney
BEGIN:STANDARD
TZOFFSETFROM:+1100
TZOFFSETTO:+1000
TZNAME:AEST
DTSTART:20250405T160000
END:STANDARD
BEGIN:DAYLIGHT
TZOFFSETFROM:+1000
TZOFFSETTO:+1100
TZNAME:AEDT
DTSTART:20251004T160000
END:DAYLIGHT
BEGIN:STANDARD
TZOFFSETFROM:+1100
TZOFFSETTO:+1000
TZNAME:AEST
DTSTART:20260404T160000
END:STANDARD
BEGIN:DAYLIGHT
TZOFFSETFROM:+1000
TZOFFSETTO:+1100
TZNAME:AEDT
DTSTART:20261003T160000
END:DAYLIGHT
BEGIN:STANDARD
TZOFFSETFROM:+1100
TZOFFSETTO:+1000
TZNAME:AEST
DTSTART:20270403T160000
END:STANDARD
BEGIN:DAYLIGHT
TZOFFSETFROM:+1000
TZOFFSETTO:+1100
TZNAME:AEDT
DTSTART:20271002T160000
END:DAYLIGHT
END:VTIMEZONE
BEGIN:VEVENT
DTSTART;TZID=Australia/Sydney:20260513T083000
DTEND;TZID=Australia/Sydney:20260513T163000
DTSTAMP:20260421T180740
CREATED:20251219T033853Z
LAST-MODIFIED:20260223T021155Z
UID:8196-1778661000-1778689800@acecc.org.au
SUMMARY:Obstetric Emergencies
DESCRIPTION:Suitable for: Anaesthesia trainees BTY1 & above\, Obstetric trainees\, Anaesthesia consultants\, Obstetric consultants\, Anaesthesia nurses\, Recovery staff\, Midwives \nPrerequisites: NIL \nLocation: HNE Simulation Centre\, John Hunter Hospital Campus. \nAim\nTo rehearse the management of obstetric crises. \nContent\nThis inter-professional team-training course provides an update on current management of everyday obstetric emergencies with an additional focus on the principles of Crisis Resource Management (CRM). Obstetric emergencies require effective teamwork to ensure best possible outcomes. This course promotes a team-based approach and midwives\, anaesthesia assistants\, recovery staff\, obstetricians and anaesthetists are encouraged to attend. It is also suitable for the ‘occasional’ obstetric anaesthetist looking to refresh their skills\, as well as trainees preparing for fellowship exams. \nFor more information\, please contact the HNE Simulation Centre.
URL:https://acecc.org.au/event/obstetric-emergencies/
LOCATION:HNE Simulation Centre\, John Hunter Hospital\, Lookout Rd\,\, Newcastle\, NSW\, Australia
CATEGORIES:Anaesthesia
ATTACH;FMTTYPE=image/jpeg:https://acecc.org.au/wp-content/uploads/2025/12/Obstetric-Emergencies.jpg
END:VEVENT
END:VCALENDAR