BEGIN:VCALENDAR
VERSION:2.0
PRODID:-//Anaesthesia Continuing Education (ACE) - ECPv6.15.18//NONSGML v1.0//EN
CALSCALE:GREGORIAN
METHOD:PUBLISH
X-ORIGINAL-URL:https://acecc.org.au
X-WR-CALDESC:Events for Anaesthesia Continuing Education (ACE)
REFRESH-INTERVAL;VALUE=DURATION:PT1H
X-Robots-Tag:noindex
X-PUBLISHED-TTL:PT1H
BEGIN:VTIMEZONE
TZID:Australia/Sydney
BEGIN:STANDARD
TZOFFSETFROM:+1100
TZOFFSETTO:+1000
TZNAME:AEST
DTSTART:20250405T160000
END:STANDARD
BEGIN:DAYLIGHT
TZOFFSETFROM:+1000
TZOFFSETTO:+1100
TZNAME:AEDT
DTSTART:20251004T160000
END:DAYLIGHT
BEGIN:STANDARD
TZOFFSETFROM:+1100
TZOFFSETTO:+1000
TZNAME:AEST
DTSTART:20260404T160000
END:STANDARD
BEGIN:DAYLIGHT
TZOFFSETFROM:+1000
TZOFFSETTO:+1100
TZNAME:AEDT
DTSTART:20261003T160000
END:DAYLIGHT
BEGIN:STANDARD
TZOFFSETFROM:+1100
TZOFFSETTO:+1000
TZNAME:AEST
DTSTART:20270403T160000
END:STANDARD
BEGIN:DAYLIGHT
TZOFFSETFROM:+1000
TZOFFSETTO:+1100
TZNAME:AEDT
DTSTART:20271002T160000
END:DAYLIGHT
END:VTIMEZONE
BEGIN:VEVENT
DTSTART;TZID=Australia/Sydney:20260325T183000
DTEND;TZID=Australia/Sydney:20260325T203000
DTSTAMP:20260421T193156
CREATED:20260122T000852Z
LAST-MODIFIED:20260123T075659Z
UID:8353-1774463400-1774470600@acecc.org.au
SUMMARY:ACE QLD March Evening Meeting
DESCRIPTION:This is an excellent way to kick off your CPD for 2026\, 2 hours of category 1 points. \nThis event has received excellent feedback over the last years and is not to be missed as we have capped numbers. Join us for a lively\, interactive learning experience with 3 case discussions followed by discussion of your own recent experiences. \nCome along in person to the Brisbane office for a delicious dinner\, drink and lively discussion. This session will also be offered online for our remote attendees to offer education wherever you may be based in QLD. \nMore Information will be available in early 2026.
URL:https://acecc.org.au/event/ace-qld-march-evening-meeting/
LOCATION:ANZCA QLD Regional Office\, 20 Pidgeon Close\, West End\, QLD\, 4101\, Australia
CATEGORIES:Anaesthesia
ATTACH;FMTTYPE=image/png:https://acecc.org.au/wp-content/uploads/2026/01/2026_QLD_March-Evening-lecture_eNews-small_311x176-1.png
END:VEVENT
END:VCALENDAR